BEGIN:VCALENDAR
VERSION:2.0
PRODID:-//hacksw/handcal//NONSGML v1.0//EN
BEGIN:VEVENT
SUMMARY:Tournoi de regularite
UID:54033d44-0e75-4985-898e-e6c151c78faa
DTSTART:20260617T120000Z
DTEND:20260617T160000Z
LOCATION:Bridge Club Sannois 6 rue Jules Ferry 95110 Sannois
CATEGORIES:Sportif
STATUS:
DESCRIPTION:<p><span style="color:#2980b9;"><strong><span
 style="font-size:16px;">Inscription sur le site de la
 FFB</span></strong></span></p>
URL;VALUE=URI:https://bridgesannois.club.ffbridge.fr/evenements/2026/06/17/tournoi-de-regularite-2327765
END:VEVENT
END:VCALENDAR
